BEGIN:VCALENDAR
VERSION:2.0
PRODID:Events Booking
BEGIN:VEVENT
UID:69e84e17820b5
SUMMARY:Applikationsentwicklung mal anders - Local Goup Ruhrgebiet
DESCRIPTION:Dr. Limper wird uns Einblick geben in ein Projekt zum Aufbau ei
 ner Leasing-Applikation der dr. limper gmbh\, die auf der Basis einerEnter
 prise-Kollaboration Plattform entwickelt wurde\, beschreiben. Einige Techn
 iken des PMI die direkt in die Applikationintegriert sind werden auch prä
 sentiert.&nbsp\;
 &nbsp\;
LOCATION:Girardetstraße 2\, Essen\, 45131 Nordrhein-Westfalen\, Deutschlan
 d
DTSTART:20250610T160000Z
DTEND:20250610T180000Z
DTSTAMP:20250602T132800Z
ORGANIZER;CN=PMI Germany Chapter e.V.:MAILTO:website@pmi-gc.de
GEO:51.431014;7.004876
X-APPLE-STRUCTURED-LOCATION;VALUE=URI;X-ADDRESS=Girardetstraße 2\, Essen\,
  45131 Nordrhein-Westfalen\, Deutschland;X-APPLE-RADIUS=72;X-TITLE=:51.431
 014;7.004876
END:VEVENT
END:VCALENDAR