BEGIN:VCALENDAR
VERSION:2.0
PRODID:Events Booking
BEGIN:VEVENT
UID:69e9082f730de
SUMMARY:Benelux Summit 2024
DESCRIPTION:It is our great pleasure to warmly invite all experts and acade
 micians worldwide to participate in the BENELUX SUMMIT 2024. This conferen
 ce will be conducted on 27th September 2024 at High-Tech Campus Eindhoven.
  Kind regards\,Pawel Stadnik President PMI Netherlands
 Information and r
 egistration via:
 &nbsp\;Benelux Summit 2024
LOCATION:High Tech Campus 1-E\, The Strip 5656 AE Eindhoven
DTSTART:20240927T060000Z
DTEND:20240927T160000Z
DTSTAMP:20240417T041056Z
ORGANIZER;CN=PMI Germany Chapter e.V.:MAILTO:website@pmi-gc.de
GEO:51.411535;5.457455
X-APPLE-STRUCTURED-LOCATION;VALUE=URI;X-ADDRESS=High Tech Campus 1-E\, The 
 Strip 5656 AE Eindhoven;X-APPLE-RADIUS=72;X-TITLE=High-Tech Campus Eindhov
 en:51.411535;5.457455
END:VEVENT
END:VCALENDAR