BEGIN:VCALENDAR
VERSION:2.0
PRODID:Events Booking
BEGIN:VEVENT
UID:69e8773d57868
SUMMARY:Secrets of the BND
DESCRIPTION:We delve into the secrets of the BND.
 The Berlin Local Group 
 of the PMI Germany Chapter invites you to take part in something very spec
 ial.
 A tour of the BND - at least of the visitor center there.
 GERMAN 
 EVENT!
 Following a one-hour lecture on the BND's working methods and con
 trol mechanisms\, we have the opportunity to visit the adjacent interactiv
 e exhibition and then sit down in the café nearby for a discussion.The nu
 mber of participants is limited to 25.
LOCATION:Chausseestraße 99a\, Berlin\, 10115\, Deutschland
DTSTART:20250425T113000Z
DTEND:20250425T140000Z
DTSTAMP:20250223T081013Z
ORGANIZER;CN=PMI Germany Chapter e.V.:MAILTO:website@pmi-gc.de
GEO:52.532865;13.379872
X-APPLE-STRUCTURED-LOCATION;VALUE=URI;X-ADDRESS=Chausseestraße 99a\, Berli
 n\, 10115\, Deutschland;X-APPLE-RADIUS=72;X-TITLE=:52.532865;13.379872
END:VEVENT
END:VCALENDAR