BEGIN:VCALENDAR
VERSION:2.0
PRODID:Events Booking
BEGIN:VEVENT
UID:69e930527c3f0
SUMMARY:Chapter Meeting Frankfurt July 2024
DESCRIPTION:This event will be held in German language!
 We're meeting in 
 person again - after a long time.We're planning:
 
 Presentation Ernst&a
 mp\;Young: Analysis of contracts using AI
 Break for networking
 Prof Dr
 . Hüsselmann: Lean-adaptive Project Portfolio Management - increasing eff
 iciency and effectiveness in project work with the LAUP² framework
 
 A
 dress any questions to: martin.bertram@pmi-gc.de
LOCATION:Mergenthalerallee 3-5\, Eschborn\, 65760 Hessen\, Deutschland
DTSTART:20240708T160000Z
DTEND:20240708T190000Z
DTSTAMP:20240506T154036Z
ORGANIZER;CN=PMI Germany Chapter e.V.:MAILTO:website@pmi-gc.de
GEO:50.132784;8.56694
X-APPLE-STRUCTURED-LOCATION;VALUE=URI;X-ADDRESS=Mergenthalerallee 3-5\, Esc
 hborn\, 65760 Hessen\, Deutschland;X-APPLE-RADIUS=72;X-TITLE=Ernst & Young
  Eschborn:50.132784;8.56694
END:VEVENT
END:VCALENDAR