BEGIN:VCALENDAR
VERSION:2.0
PRODID:Events Booking
BEGIN:VEVENT
UID:69e8cb2207f9b
SUMMARY:Chapter Meeting Frankfurt December 2024
DESCRIPTION:We are planning 2 presentations:
 1)&nbsp\;Lucas Artaza &amp\;
 &nbsp\;Dennis Rosendahl (Projektron):&nbsp\;The use of Personas to improve
  user experience
 Personas help you better understand target groups\, cha
 racteristics and user behavior. They result in a better understanding of t
 he customer's perspective\, making them an innovative tool for communicati
 on.At Projektron\, personas reflect prototypes of a company (organization)
  and individual software users\, with great benefits in product developmen
 t\, system implementation and marketing.
 2)&nbsp\;&nbsp\;Dr. Jadena Bech
 tel&nbsp\;(she/her)\,&nbsp\;Senior Consultant
 Managing tensions: agile a
 nd sustainable strategies in project portfolio management
 Excerpts from 
 the dissertation published by Dr Jadena Bechtel at the TU Darmstadt this y
 ear.
 Your questions about this events are answered by&nbsp\;Martin.Bertr
 am@pmi-gc.de
LOCATION:Kasseler Straße 1A \, Frankfurt am Main\, 60486 Hessen\, Deutschl
 and
DTSTART:20241209T170000Z
DTEND:20241209T200000Z
DTSTAMP:20240814T073244Z
ORGANIZER;CN=PMI Germany Chapter e.V.:MAILTO:website@pmi-gc.de
GEO:50.120773;8.637514
X-APPLE-STRUCTURED-LOCATION;VALUE=URI;X-ADDRESS=Kasseler Straße 1A \, Fran
 kfurt am Main\, 60486 Hessen\, Deutschland;X-APPLE-RADIUS=72;X-TITLE=KA-ei
 ns im Ökohaus:50.120773;8.637514
END:VEVENT
END:VCALENDAR