BEGIN:VCALENDAR
VERSION:2.0
PRODID:Events Booking
BEGIN:VEVENT
UID:69e7daa87f325
SUMMARY:Chapter-Meeting Frankfurt November 2025
DESCRIPTION:Scheduled presentations at the chapter meeting:1. Pooja Mohnani
 : Collaboration in Project Management (in English)2. The second presentati
 on is still to be determinedDiscussions will follow each presentation. The
 re will be a break for networking between the presentations.
LOCATION:Europa-Allee 91\, Frankfurt am Main\, 60486 Hessen\, Deutschland
DTSTART:20251104T170000Z
DTEND:20251104T200000Z
DTSTAMP:20250409T171307Z
ORGANIZER;CN=PMI Germany Chapter e.V.:MAILTO:website@pmi-gc.de
GEO:50.107773;8.638295
X-APPLE-STRUCTURED-LOCATION;VALUE=URI;X-ADDRESS=Europa-Allee 91\, Frankfurt
  am Main\, 60486 Hessen\, Deutschland;X-APPLE-RADIUS=72;X-TITLE=Deloitte F
 rankfurt Office:50.107773;8.638295
END:VEVENT
END:VCALENDAR