BEGIN:VCALENDAR
VERSION:2.0
PRODID:Events Booking
BEGIN:VEVENT
UID:69e8f37c5b3bb
SUMMARY:Chapter Meeting Frankfurt October 2024
DESCRIPTION:There will be 2 presentations:
 1) Mithun Sridharan:&nbsp\;As 
 AI transforms business operations\, organizations must adapt their structu
 re to harness its full potential.&nbsp\; &nbsp\; &nbsp\;Hence\, organizati
 on Design for Artificial Intelligence is critical for enabling effective i
 ntegration of AI technologies into existing structures and processes.
 2)
  Benjamin Bürkner\, Managing Director of Helaba Digital\, is looking forw
 ard to sharing his experiences from the AI ​​project with the particip
 ants and discussing them.Between the presentations there is a good opportu
 nity to expand your personal network.Questions about the event can be answ
 ered by Martin.Bertram@pmi-gc.de
LOCATION:Europa-Allee 91\, Frankfurt am Main\, 60486 Hessen\, Deutschland
DTSTART:20241007T160000Z
DTEND:20241007T190000Z
DTSTAMP:20240406T065211Z
ORGANIZER;CN=PMI Germany Chapter e.V.:MAILTO:website@pmi-gc.de
GEO:50.107773;8.638295
X-APPLE-STRUCTURED-LOCATION;VALUE=URI;X-ADDRESS=Europa-Allee 91\, Frankfurt
  am Main\, 60486 Hessen\, Deutschland;X-APPLE-RADIUS=72;X-TITLE=Deloitte F
 rankfurt Office:50.107773;8.638295
END:VEVENT
END:VCALENDAR