BEGIN:VCALENDAR
VERSION:2.0
PRODID:Events Booking
BEGIN:VEVENT
UID:69e7c40b80adf
SUMMARY:Chapter Meeting Frankfurt September 2022
DESCRIPTION:Waldemar Lorenz: Waste in Projects
 The central Paradigm of Le
 an Thinking is\, to avoid waste. How can this thinking be transferred to p
 roject management?
 Karl-Heinz Hellmann: Chaos in Projects
 This topic c
 oncerns humans as well as enterprises. Chaos is everywhere at any time and
  it will be increasing. The presentation will explain the fundamental laws
  and present strategies to continuously fight it.
 The presentations will
  be held in German
 Free only for Chapter - Members
LOCATION:Kasseler Straße 1A \, Frankfurt am Main\, 60486 Hessen\, Deutschl
 and
DTSTART:20220926T160000Z
DTEND:20220926T183000Z
DTSTAMP:20220701T073649Z
ORGANIZER;CN=PMI Germany Chapter e.V.:MAILTO:website@pmi-gc.de
GEO:50.120773;8.637514
X-APPLE-STRUCTURED-LOCATION;VALUE=URI;X-ADDRESS=Kasseler Straße 1A \, Fran
 kfurt am Main\, 60486 Hessen\, Deutschland;X-APPLE-RADIUS=72;X-TITLE=KA-ei
 ns im Ökohaus:50.120773;8.637514
END:VEVENT
END:VCALENDAR