BEGIN:VCALENDAR
VERSION:2.0
PRODID:Events Booking
BEGIN:VEVENT
UID:69e7da04421c7
SUMMARY:Chaptermeeting Cologne: Agile Leadership in the Forces
DESCRIPTION:Project management in crisis situations
 How can crisis situat
 ions be managed? We think: Core competencies of project management help us
  to act in a goal-oriented yet flexible way in critical situations. Agile 
 methodologies in particular offer a fund of working and thinking methods t
 hat make it possible to manage complex tasks even in environments with gre
 at uncertainty.We would like to address this topic in a series of events.T
 he starting point will be our chapter meeting on 11.9. in Cologne. Captain
  Johannes Schmidt-Thomée and Dr. Florian Andresen from the Helmut Schmidt
  University of the German Armed Forces will give two presentations on new 
 agile leadership approaches in the German Armed Forces.
LOCATION:Im Zollhafen 12\, Köln\, 50678 Nordrhein-Westfalen\, Deutschland
DTSTART:20230911T160000Z
DTEND:20230911T180000Z
DTSTAMP:20230602T131436Z
ORGANIZER;CN=PMI Germany Chapter e.V.:MAILTO:website@pmi-gc.de
GEO:50.928839;6.965675
X-APPLE-STRUCTURED-LOCATION;VALUE=URI;X-ADDRESS=Im Zollhafen 12\, Köln\, 5
 0678 Nordrhein-Westfalen\, Deutschland;X-APPLE-RADIUS=72;X-TITLE=:50.92883
 9;6.965675
END:VEVENT
END:VCALENDAR