BEGIN:VCALENDAR
VERSION:2.0
PRODID:Events Booking
BEGIN:VEVENT
UID:69e907a518a9d
SUMMARY:General Topics-CoP - Deep Dive: Integrating Organizational Change M
 anagement into Project Management (4)
DESCRIPTION:We face new challenges in projects every day. With this CoP\, w
 e want to take a \"deep dive\" into a wide range of topics from the broad 
 field of project management across all industries and develop new approach
 es to tackling these issues\, as well as publish them in presentations and
  articles where appropriate.In our 5th meeting\, we want to get to know ea
 ch other further and explore the topic of \"Integrating Organizational Cha
 nge Management into Project Management.\" in a deep dive.&nbsp\;
DTSTART:20240919T173000Z
DTEND:20240919T183000Z
DTSTAMP:20240621T184006Z
ORGANIZER;CN=PMI Germany Chapter e.V.:MAILTO:website@pmi-gc.de
END:VEVENT
END:VCALENDAR