BEGIN:VCALENDAR
VERSION:2.0
PRODID:Events Booking
BEGIN:VEVENT
UID:69e92fc27af18
SUMMARY:General Topics-CoP: Kick-Off-Meeting
DESCRIPTION:We face new challenges in projects every day. With this CoP\, w
 e want to take a \"deep dive\" into a wide range of topics from the broad 
 field of project management across all industries and develop new approach
 es to tackling these issues\, as well as publish them in presentations and
  articles where appropriate.In our kick-off meeting\, we want to get to kn
 ow each other and find an initial topic that we want to prepare. The first
  suggestions have already been made.
DTSTART:20240704T170000Z
DTEND:20240704T180000Z
DTSTAMP:20240621T184006Z
ORGANIZER;CN=PMI Germany Chapter e.V.:MAILTO:website@pmi-gc.de
END:VEVENT
END:VCALENDAR