BEGIN:VCALENDAR
VERSION:2.0
PRODID:Events Booking
BEGIN:VEVENT
UID:69e8a0c8971e7
SUMMARY:COP LIFE-SCIENCES GROUP WORKING 1-1
DESCRIPTION:At our last meeting on January 14th\, the CoP Life-Sciences wor
 king group agreed to launch the updated group working project.We aim to de
 epen our current PM knowledge\, exchange experiences\, network\, and effic
 iently apply PMI principles for project management in the life sciences en
 vironment.
 &nbsp\;
   
DTSTART:20250206T173000Z
DTEND:20250206T183000Z
DTSTAMP:20250122T171650Z
ORGANIZER;CN=PMI Germany Chapter e.V.:MAILTO:website@pmi-gc.de
END:VEVENT
END:VCALENDAR