BEGIN:VCALENDAR
VERSION:2.0
PRODID:Events Booking
BEGIN:VEVENT
UID:69e877e5e2e8a
SUMMARY:English-BookClub April 2025
DESCRIPTION:Our next book club session will take place on Thursday\, April 
 25. This event marks the conclusion of our current theme on Artificial Int
 elligence as we prepare to transition into our next focus area: Power Skil
 ls\, beginning with Emotional Intelligence.This session will feature discu
 ssion on two selected titles:Nexus: A Brief History of Information Network
 s from the Stone Age to AI by Yuval Noah Harari – A comprehensive look a
 t the development of information networks throughout history\, with a part
 icular focus on their role in the age of AI.The Artificial Mind: Decoding 
 the Shortcomings of AI and Language Models by Jaideep Tandan – A critica
 l examination of the limitations and implications of artificial intelligen
 ce and language models.We’re also pleased to announce that Jaideep Tanda
 n\, author of The Artificial Mind\, will be joining us for a guest appeara
 nce and discussion.Our book club is designed for professionals interested 
 in strengthening project management skills through reading and conversatio
 n. Participation also counts toward PMI Professional Development Units (PD
 Us) under the \"Ways of Working\" category.We look forward to having you j
 oin us as we wrap up our AI theme and continue our journey of professional
  development through reading.\"
 Please address any questions to martin.b
 ertram@pmi-gc.de
DTSTART:20250425T093000Z
DTEND:20250425T110000Z
DTSTAMP:20250123T005632Z
ORGANIZER;CN=PMI Germany Chapter e.V.:MAILTO:website@pmi-gc.de
END:VEVENT
END:VCALENDAR