BEGIN:VCALENDAR
VERSION:2.0
PRODID:Events Booking
BEGIN:VEVENT
UID:69e8035502f57
SUMMARY:English BookClub September 2025
DESCRIPTION:This month’s session focuses on one of the most valuable comp
 etencies for project professionals: Business Acumen. Join our host\, Liz H
 ector\, as we explore how strategic thinking\, big-picture awareness\, and
  value-driven decision-making can elevate your leadership and influence ac
 ross any organization.September Reading Theme: Your Next Five Moves by Pat
 rick Bet-DavidThis book focuses on staying five steps ahead. How to gain c
 larity on your identity\, strategize effectively\, scale your business\, a
 nd master decision-making under pressure. The book blends mindset\, tactic
 al planning\, and leadership development to help ambitious professionals l
 evel up with deliberate and visionary action.
 Please address any questio
 ns to Martin.Bertram@pmi-gc.de&nbsp\;
DTSTART:20250919T093000Z
DTEND:20250919T110000Z
DTSTAMP:20250506T145100Z
ORGANIZER;CN=PMI Germany Chapter e.V.:MAILTO:website@pmi-gc.de
END:VEVENT
END:VCALENDAR