BEGIN:VCALENDAR
VERSION:2.0
PRODID:Events Booking
BEGIN:VEVENT
UID:69e8b6162e076
SUMMARY:English Round Table Frankfurt January 2025
DESCRIPTION:English Round Table Frankfurt January 2025
 PMI Round Table on
  Project Management topic
 28.01.2025 18:30 - 20:30
 Dear PM enthusiasts
 \, members of PMI and friends\,
 Greetings and here's the invite to the n
 ext English Round Table for the project management professionals living in
  and around the city of Frankfurt or Rhein-Main region. With this event we
  intend to facilitate exchange between PMs\, and we will talk about Projec
 t & Program Management related topic in the Organization.
 This meeting w
 ill allow you to discuss on any of the project management related topic or
  questions in your project\, program\, organization\, or your day-to-day a
 ctivities. Our volunteer team from the Germany Chapter will be available t
 o facilitate the discussion.
 Note that the event will take place in Engl
 ish.
LOCATION:Weckmarkt\, Frankfurt\, 60311 Hesse\, Germany
DTSTART:20250128T173000Z
DTEND:20250128T193000Z
DTSTAMP:20250123T180756Z
ORGANIZER;CN=PMI Germany Chapter e.V.:MAILTO:website@pmi-gc.de
GEO:50.110209;8.685693
X-APPLE-STRUCTURED-LOCATION;VALUE=URI;X-ADDRESS=Weckmarkt\, Frankfurt\, 603
 11 Hesse\, Germany;X-APPLE-RADIUS=72;X-TITLE=:50.110209;8.685693
END:VEVENT
END:VCALENDAR