BEGIN:VCALENDAR
VERSION:2.0
PRODID:Events Booking
BEGIN:VEVENT
UID:69e95b1707888
SUMMARY:Klimapuzzle - Climate Fresk May 21024
DESCRIPTION:This event will be held in German Language!
 The fight against
  climate change is a global challenge. Greenhouse gases don’t stop at bo
 rders\, so reducing the quantity we emit is everyone’s responsibility.Th
 ere is a European cross-PMI-chapter initiative underway to build awareness
  of the climate crisis.In order to take action and build solutions\, we fi
 rst need to understand the problem. Climate Fresk is a powerful tool for p
 roviding a quality climate education. It is accessible to anyone and can b
 e scaled quickly within an organisation or community.In just 3 hours\, the
  collaborative Climate Fresk workshop will teach you the fundamental scien
 ce behind climate change and empower you to take action.
 For more inform
 ation see:&nbsp\;https://climatefresk.org&nbsp\;or&nbsp\;https://klimapuzz
 le.de/If you are interested in joining one of these workshops\, please con
 tact:&nbsp\;
 https://association.climatefresk.org/training_sessions/6da9
 484a-bc43-4fea-b38d-45ecdc7b0a30/show_public?language=en&amp\;tenant_token
 =36bd2274d3982262c0021755
DTSTART:20240511T130000Z
DTEND:20240511T160000Z
DTSTAMP:20240420T132033Z
ORGANIZER;CN=PMI Germany Chapter e.V.:MAILTO:website@pmi-gc.de
END:VEVENT
END:VCALENDAR