BEGIN:VCALENDAR
VERSION:2.0
PRODID:Events Booking
BEGIN:VEVENT
UID:69e909062c0a8
SUMMARY:Kooperationsstammtisch PMI und ISACA: Compliance im Projektmanageme
 nt
DESCRIPTION:Kooperationsstammtisch PMI und ISACA: Compliance im Projektmana
 gementWir freuen uns\, Sie herzlich zum Kooperationsstammtisch von PMI und
  ISACA einzuladen\, der unter dem Thema \"Compliance im Projektmanagement\
 " steht.Die Einhaltung von Compliance-Vorgaben im Projektmanagement ist vo
 n entscheidender Bedeutung für den Erfolg und die Nachhaltigkeit jeder Or
 ganisation. Compliance schafft nicht nur rechtliche Sicherheit\, sondern a
 uch Vertrauen bei Stakeholdern und trägt dazu bei\, Risiken zu minimieren
 .Dieses Event bietet eine hervorragende Gelegenheit für fachlichen und pe
 rsönlichen Austausch zwischen den Mitgliedern beider Organisationen.
LOCATION:Schertlinstraße\, Augsburg\, 86159 Bayern\, Deutschland
DTSTART:20240912T150000Z
DTEND:20240912T190000Z
DTSTAMP:20240703T165426Z
ORGANIZER;CN=PMI Germany Chapter e.V.:MAILTO:website@pmi-gc.de
GEO:48.353122;10.895636
X-APPLE-STRUCTURED-LOCATION;VALUE=URI;X-ADDRESS=Schertlinstraße\, Augsburg
 \, 86159 Bayern\, Deutschland;X-APPLE-RADIUS=72;X-TITLE=:48.353122;10.8956
 36
END:VEVENT
END:VCALENDAR