BEGIN:VCALENDAR
VERSION:2.0
PRODID:Events Booking
BEGIN:VEVENT
UID:69e7da29b3eca
SUMMARY:Leadership with heart and mind
DESCRIPTION:PDU workshop
 Leadership with heart and mind - How strong and 
 at the same time emphatic leadership succeedsAs a project manager\, you ar
 e confronted with numerous challenges every day. Especially in the managem
 ent of your team\, there are\, in addition to all topic-related and techni
 cal issues\, essential questions that keep coming up in the background.Tak
 e your leadership skills to a new level and make life easier for your team
  and yourself in the coming year. You will achieve your goals more easily 
 and quickly\, solve problems and conflicts better and fundamentally improv
 e the atmosphere and motivation in your team.
DTSTART:20230317T083000Z
DTEND:20230317T163000Z
DTSTAMP:20221122T160837Z
ORGANIZER;CN=PMI Germany Chapter e.V.:MAILTO:website@pmi-gc.de
END:VEVENT
END:VCALENDAR