BEGIN:VCALENDAR
VERSION:2.0
PRODID:Events Booking
BEGIN:VEVENT
UID:69e7f1c8a09d2
SUMMARY:2nd English PMI Roundtable – Local Group Mainz 
DESCRIPTION:Date: Thursday\, 9 October 2025  Time: 18:00–20:00  Location:
  M-Lounge &amp\; Bar | Hyatt Regency Mainz Cost: Free of charge  Earn: Up 
 to 2 PDUs  Language: English
LOCATION:Templerstraße\, Mainz\, 55116 Rheinland-Pfalz\, Deutschland
DTSTART:20251009T160000Z
DTEND:20251009T180000Z
DTSTAMP:20250908T084013Z
ORGANIZER;CN=PMI Germany Chapter e.V.:MAILTO:website@pmi-gc.de
GEO:49.996699;8.2812
X-APPLE-STRUCTURED-LOCATION;VALUE=URI;X-ADDRESS=Templerstraße\, Mainz\, 55
 116 Rheinland-Pfalz\, Deutschland;X-APPLE-RADIUS=72;X-TITLE=Hyatt Regency 
 Mainz:49.996699;8.2812
END:VEVENT
END:VCALENDAR