BEGIN:VCALENDAR
VERSION:2.0
PRODID:Events Booking
BEGIN:VEVENT
UID:69e8088dcfbf7
SUMMARY:PMI GC  Rheinland and Deutsche Telekom Technik 
DESCRIPTION:Artificial intelligence has become a natural part of our busine
 ss lives\, and we’re also exploring its potential more and more in our p
 ersonal lives. We’re fascinated by the evolution of AI tools and the spe
 ed with which LLMs can generate text\, create visuals\, and sketch out com
 plex scenarios.
 But does all this speed and technological brilliance hel
 p us live up to our ambition – to collaborate more effectively in our pr
 oject teams\, to become more focused\, more efficient\, and ultimately\, b
 etter at what we do? We’re taking on this question – directly and toge
 ther – on September 9\, 2025\, with Deutsche Telekom Technik in Bonn.
LOCATION:Landgrabenweg 149\, Bonn\, 53227 Nordrhein-Westfalen\, Deutschland
DTSTART:20250909T160000Z
DTEND:20250909T190000Z
DTSTAMP:20250306T185454Z
ORGANIZER;CN=PMI Germany Chapter e.V.:MAILTO:website@pmi-gc.de
GEO:50.722338;7.14357
X-APPLE-STRUCTURED-LOCATION;VALUE=URI;X-ADDRESS=Landgrabenweg 149\, Bonn\, 
 53227 Nordrhein-Westfalen\, Deutschland;X-APPLE-RADIUS=72;X-TITLE=:50.7223
 38;7.14357
END:VEVENT
END:VCALENDAR