BEGIN:VCALENDAR
VERSION:2.0
PRODID:Events Booking
BEGIN:VEVENT
UID:69e946c12e14a
SUMMARY:‘More than “just” ChatGPT’ - How GenAI will transform the w
 ay we use and create software
DESCRIPTION:&nbsp\;The PMI Munich English Speaking Roundtable proudly prese
 nts\;‘More than “just” ChatGPT’ - How GenAI will transform the way
  we use and create software
 Audience: Everybody interested in (Gen)AI\, 
 everybody involved in software (development) projects.The Evolutionary Imp
 act of Generation AI on Software Development and Utilization is the big bu
 zz of today.In the digital era\, software development and utilization have
  become integral to our daily lives.
DTSTART:20240606T160000Z
DTEND:20240606T183000Z
DTSTAMP:20240328T135713Z
ORGANIZER;CN=PMI Germany Chapter e.V.:MAILTO:website@pmi-gc.de
END:VEVENT
END:VCALENDAR