BEGIN:VCALENDAR
VERSION:2.0
PRODID:Events Booking
BEGIN:VEVENT
UID:69e7da87d14fc
SUMMARY:Online-Mitgliederversammlung 2025
DESCRIPTION:Dear member of the PMI Germany Chapter e.V.\,you will soon rece
 ive and invite to our General Meeting which will take place online on Nove
 mber 26th 2025 from 6 til 8 pm MET.In this invite you will find a link to 
 register in case you like to attend the online general meeting. Without th
 is registration it will not be possible to attend the general meeting nor 
 participate in the respective polls. Therefore please take note of the fol
 lowing.
DTSTART:20251126T170000Z
DTEND:20251126T190000Z
DTSTAMP:20220903T091410Z
ORGANIZER;CN=PMI Germany Chapter e.V.:MAILTO:website@pmi-gc.de
END:VEVENT
END:VCALENDAR