BEGIN:VCALENDAR
VERSION:2.0
PRODID:Events Booking
BEGIN:VEVENT
UID:69e7daa8d25c9
SUMMARY:PM-Summit 2025 of PMI Germany Chapter
DESCRIPTION:PM Summit 2025 - Compass for the future: Agile. Digital. Sustai
 nable.
 Join us for intense days of learning\, sharing and growing that w
 ill help you connect with current and future project managers in Germany a
 nd expand your network. Take advantage of this unique opportunity to learn
  from top-class speakers and exchange ideas with other experts\, gain new 
 impulses for your own work\, make new contacts and thus develop profession
 ally. You can also look forward to an unforgettable evening event at the P
 MI Germany Chapter Summit 2025 on the first day on the paddle steamer MS L
 ousiana. You can find everything else on the event page: https://2025.pm-s
 ummit.de
LOCATION:Bernhard-Nocht-Straße 97\, Hamburg\, 20359\, Deutschland
DTSTART:20251111T080000Z
DTEND:20251112T160000Z
DTSTAMP:20240410T131821Z
ORGANIZER;CN=PMI Germany Chapter e.V.:MAILTO:website@pmi-gc.de
GEO:53.54678;9.96515
X-APPLE-STRUCTURED-LOCATION;VALUE=URI;X-ADDRESS=Bernhard-Nocht-Straße 97\,
  Hamburg\, 20359\, Deutschland;X-APPLE-RADIUS=72;X-TITLE=Hamburg\, Empire 
 Riverside Hotel:53.54678;9.96515
END:VEVENT
END:VCALENDAR