BEGIN:VCALENDAR
VERSION:2.0
PRODID:Events Booking
BEGIN:VEVENT
UID:69e7ca10e2a1a
SUMMARY:Germany Chapter Meeting Frankfurt January 2023 Topic Sustainability
DESCRIPTION:Nachhaltigkeit\, mal anders erklärt: Wie du durch dein eigenes
  Engagement deine Power Skills nachhaltig verbessern kannst. Und dabei die
  Welt so ganz nebenbei positiver gestalten kannst. Live und in Farbe beric
 hten wir darüber\, wir - das sind Katja Mayer\, Expertin für Corporate S
 ustainability\, und Jörg Glunde\, Vizepräsident Mitglieder beim PMI Germ
 any Chapter e.V.\, auf Einladung von Matthias Koll\, Head of Events der Re
 gion Central und Martin Bertram\, Vizepräsident der Region Central.Noch k
 ann man sich anmelden. Oder einfach kurzentschlossen rauskommen ins Frankf
 urter Ökohaus KA1\, nur 3 Minuten Fußweg von der S-Bahn Station Frankfur
 t West entfernt. Und nachhaltig da umweltfreundlich anreisen\, wäre doch 
 was\, oder?
LOCATION:Kasseler Straße 1a\, Frankfurt am Main\, 60486 Hessen\, Deutschla
 nd
DTSTART:20230130T170000Z
DTEND:20230130T190000Z
DTSTAMP:20221122T184542Z
ORGANIZER;CN=PMI Germany Chapter e.V.:MAILTO:website@pmi-gc.de
GEO:50.120773;8.637514
X-APPLE-STRUCTURED-LOCATION;VALUE=URI;X-ADDRESS=Kasseler Straße 1a\, Frank
 furt am Main\, 60486 Hessen\, Deutschland;X-APPLE-RADIUS=72;X-TITLE=Ökoha
 us KA1 Frankfurt:50.120773;8.637514
END:VEVENT
END:VCALENDAR