BEGIN:VCALENDAR
VERSION:2.0
PRODID:Events Booking
BEGIN:VEVENT
UID:69e947dc8d99a
SUMMARY:Be prepared to be unprepared! - Project management meets improv the
 ater
DESCRIPTION:Dear projectmanagement enthusiasts\,
  Who doesn't know this: 
 sometimes feeling unprepared in moments when you would like to be prepared
 ? Then this event is something for you: 
 Be prepared to be unprepared! -
  Project management meets improv theater 
 Project management and improvi
 sational theater have more in common than meets the eye. In this workshop-
 like event\, learn something about your own mindset as the key to success\
 , a positive error culture\, strengthening flexibility and spontaneity and
  much more...
 (Event language will be German)
LOCATION:Frankfurt am Main
DTSTART:20240611T163000Z
DTEND:20240611T180000Z
DTSTAMP:20220707T194210Z
ORGANIZER;CN=PMI Germany Chapter e.V.:MAILTO:website@pmi-gc.de
END:VEVENT
END:VCALENDAR