BEGIN:VCALENDAR
VERSION:2.0
PRODID:Events Booking
BEGIN:VEVENT
UID:69e8def7429cc
SUMMARY:Wie verändert sich die Welt für PM / Projekte in 5 Jahren? (Marc 
 Dürr)
DESCRIPTION:Beschreibung folgt demnächst
DTSTART:20240305T173000Z
DTEND:20240305T190000Z
DTSTAMP:20220613T131305Z
ORGANIZER;CN=PMI Germany Chapter e.V.:MAILTO:website@pmi-gc.de
END:VEVENT
END:VCALENDAR