BEGIN:VCALENDAR
VERSION:2.0
PRODID:Events Booking
BEGIN:VEVENT
UID:69e8b5ac10de1
SUMMARY:Master your Challenges
DESCRIPTION:This Event will be held in German language!
 Do you have chall
 enges at work? Are you stressed or frustrated with your work? That doesn't
  have to be the case!
 Dr. Corinna Freitag shows you a method with which 
 you can activate and strengthen the part of your brain that serves you and
  reduce the part that sabotages you. This helps you to build better relati
 onships\, reduce negative feelings such as stress\, frustration and anxiet
 y and increase your productivity. With this technique\, you can cope bette
 r with challenges at work and become calmer\, more relaxed and more self-c
 onfident.
 You will learn
 
 The basics of Positive Intelligence®
 Co
 ncepts to quickly regain your composure and move on constructively instead
  of getting stuck in negative thoughts.
 Tools to help you be happier &am
 p\; more satisfied and improve your productivity\, relationships and work 
 environment.
 &gt\;&gt\; You want to overcome your challenges better? The
 n join us!
 &nbsp\;
DTSTART:20250121T173000Z
DTEND:20250121T190000Z
DTSTAMP:20220613T131305Z
ORGANIZER;CN=PMI Germany Chapter e.V.:MAILTO:website@pmi-gc.de
END:VEVENT
END:VCALENDAR