BEGIN:VCALENDAR
VERSION:2.0
PRODID:Events Booking
BEGIN:VEVENT
UID:69e970ceedbd7
SUMMARY:Werteorientierte Priorisierung -  Warum mache ich WSJF?
DESCRIPTION:Irgendwie haben wir es alle schon erlebt: Die Anzahl der Anford
 erungen wächst kontinuierlich und das Backlog wird länger und länger. D
 as Team ist fürchterlich busy und liefert so schnell es kann kontinuierli
 ch neue Features. Trotzdem wächst der Unmut bei den Stakeholdern. O-Ton: 
 Meine Anforderungen kommen gar nicht dran! Und das\, was wir bekommen\, br
 ingt irgendwie auch nicht den erwünschten Benefit. Wir müssen besser wer
 den!
 Die Frage ist: Warum ist das so? Brauchen wir mehr Kapazität\, ode
 r haben wir vielleicht ein ganz anderes Problem? Jörg berichtet aus seine
 r Erfahrung in verschiedenen Projekten und was aus seiner Sicht Möglichke
 iten sind\, die Situation durch bessere Priorisierung zu verändern und di
 e Stakeholder ins Boot zu holen. Dabei liegt der Schwerpunkt auf der prakt
 ischen Nutzung von WSJF zur Beurteilung der Wertschöpfung von Anforderung
 en\, um eine werteorientierte Priorisierung durchzuführen.
 &gt\;&gt\; P
 riorisierung von Anforderungen ist ein Thema für Dich? Dann sei dabei!
DTSTART:20240507T163000Z
DTEND:20240507T180000Z
DTSTAMP:20220613T131305Z
ORGANIZER;CN=PMI Germany Chapter e.V.:MAILTO:website@pmi-gc.de
END:VEVENT
END:VCALENDAR