BEGIN:VCALENDAR
VERSION:2.0
PRODID:Events Booking
BEGIN:VEVENT
UID:69e8648912ace
SUMMARY:How AI revolutionized everyday project work - a review
DESCRIPTION:&gt\;&gt\; This will be held in German language
 In this prese
 ntation\, we look back at the journey of artificial intelligence (AI) in p
 roject management. From the first small steps to the big changes that have
  revolutionized everyday project work - we will show you the most importan
 t milestones and best practices.
 You will learn how AI has increased eff
 iciency and productivity in projects by automating routine tasks\, minimiz
 ing errors and improving communication. With concrete examples and practic
 al applications\, we will show you how project managers successfully use A
 I and what challenges they have overcome.
 This review will provide you w
 ith valuable insights and inspiration to better understand and utilize the
  potential of AI in project management. Let the success stories and insigh
 ts inspire you to make your projects even smarter and more efficient. &gt\
 ;&gt\; Do you want to be inspired to use AI in your day-to-day project wor
 k? Then join us!
DTSTART:20250527T163000Z
DTEND:20250527T180000Z
DTSTAMP:20220613T131305Z
ORGANIZER;CN=PMI Germany Chapter e.V.:MAILTO:website@pmi-gc.de
END:VEVENT
END:VCALENDAR