BEGIN:VCALENDAR
VERSION:2.0
PRODID:Events Booking
BEGIN:VEVENT
UID:69e907d33ee87
SUMMARY:Projektmanagement und Vorgehensmodelle 2024
DESCRIPTION:How will work in project teams develop in the post-pandemic wor
 king world that is increasingly characterized by new AI tools? How can tea
 mwork be reinterpreted and\, above all\, designed? Deepening these questio
 ns from the perspective of science and practice and discussing solutions i
 s the focus of the PVM 2024 with the guiding theme of new work in projects
  - teamwork reinterpreted.
 Holders of PMI Certifications can claim PDU
 ’s - 1 per presentation.
 More information about the conference can be 
 found:&nbsp\;https://pvm-tagung.de/startseite
 Please follow us: https://
 www.linkedin.com/company/89689597
 This conference will be held primarily
  in German!
 Please address questions about this conference to: Martin.Be
 rtram@pmi-gc.de
 
LOCATION:Wiesenstraße14 \, Gießen\, 35390 Hessen\, Deutschland
DTSTART:20240926T060000Z
DTEND:20240927T110000Z
DTSTAMP:20240318T175214Z
ORGANIZER;CN=PMI Germany Chapter e.V.:MAILTO:website@pmi-gc.de
GEO:50.586973;8.683668
X-APPLE-STRUCTURED-LOCATION;VALUE=URI;X-ADDRESS=Wiesenstraße14 \, Gießen\
 , 35390 Hessen\, Deutschland;X-APPLE-RADIUS=72;X-TITLE=University of Appli
 ed Science Mittelhessen (Friedberg):50.586973;8.683668
END:VEVENT
END:VCALENDAR