BEGIN:VCALENDAR
VERSION:2.0
PRODID:Events Booking
BEGIN:VEVENT
UID:69e7ab9d7a0f3
SUMMARY:Study Brunch: Manage conflict
DESCRIPTION:The PMI Germany Chapter is launching Study Brunch in the Year 2
 023. We meet on regular basis twice in a month. To address the queries and
  emerge with ideas. Difficult issues are discussed respectfully and empowe
 rs community residents. Solicit Volunteers to help in your efforts. It wi
 ll be great opportunity for Professionals to know about the PMP Exam new p
 attern. Experienced Speakers covering topics from the Domains of PMP as pe
 r PMBOK 7 . Few Sessions also covers Simulator Questions from PMP Exam.The
  Study Group is your one-stop solution for your desire to become a PMP. We
  will start with a Study Brunch about Conflict Management.
DTSTART:20230121T100000Z
DTEND:20230121T110000Z
DTSTAMP:20221211T084749Z
ORGANIZER;CN=PMI Germany Chapter e.V.:MAILTO:website@pmi-gc.de
END:VEVENT
END:VCALENDAR