BEGIN:VCALENDAR
VERSION:2.0
PRODID:Events Booking
BEGIN:VEVENT
UID:69e7bb0a7c6dc
SUMMARY:Study Brunch Online Event(in English): Business Environment Changes
  by Osahon Idehen PMP on 18th Feb at 11 am CET
DESCRIPTION:Study Brunch Online Event(in English): Business Environment Cha
 nges by Osahon Idehen PMP on 18th Feb at 11 am CET(Exam Preparation PMBOK 
 7 : Domain 3 : Business_Environment )
 Osahon Idehen\, PMP\, CInP\, an en
 ergetic young chemical engineer aspiring for innovations and growth opport
 unities in the energy sector and helping organization achieve set objectiv
 es with about a decade of experience in the oil and gas industry working p
 articularly in the downstream/refinery and petrochemical sector as an oper
 ator\, crude oil evaluation engineer and currently as innovation engineer 
 high-performance products formulation and testing. A team player with crea
 tivity\, integrity\, and a drive for excellence with sound project managem
 ent skills. A PMI volunteer\, PMP Exam practice Question developer\, artic
 le writer on Project management magazine\, and an Agile Coach for PMI Lima
  Chapter (2021).I enjoy my work as an Innovation engineer\, ready to learn
  more. Loves teaching\, games\, music and social services.
DTSTART:20230218T100000Z
DTEND:20230218T110000Z
DTSTAMP:20230129T065531Z
ORGANIZER;CN=PMI Germany Chapter e.V.:MAILTO:website@pmi-gc.de
END:VEVENT
END:VCALENDAR