BEGIN:VCALENDAR
VERSION:2.0
PRODID:Events Booking
BEGIN:VEVENT
UID:69e789ec03b7c
SUMMARY:Study Group Session - Processes: Risk management (Erich Pawlik)
DESCRIPTION:Study Group Session - Prozesse: Risikomanagement  (Erich Pawlik
 )
DTSTART:20251007T170000Z
DTEND:20251007T180000Z
DTSTAMP:20220519T174641Z
ORGANIZER;CN=PMI Germany Chapter e.V.:MAILTO:website@pmi-gc.de
END:VEVENT
END:VCALENDAR