BEGIN:VCALENDAR
VERSION:2.0
PRODID:Events Booking
BEGIN:VEVENT
UID:69e8778a2d042
SUMMARY:Study Group Session: Processes: Time management and agile approache
 s (Smita Brahmachari)
DESCRIPTION:Study Group Session:
 Processes: Time management and agile app
 roaches (Smita Brahmachari)
DTSTART:20250408T160000Z
DTEND:20250408T173000Z
DTSTAMP:20220519T174641Z
ORGANIZER;CN=PMI Germany Chapter e.V.:MAILTO:website@pmi-gc.de
END:VEVENT
END:VCALENDAR