BEGIN:VCALENDAR
VERSION:2.0
PRODID:Events Booking
BEGIN:VEVENT
UID:69e87791ada4b
SUMMARY:Study Group Session: Processes: Risk Management (Thomas Anderl)
DESCRIPTION:Study Group Session: Prozesse: Risikomanagement (Thomas Anderl)
    
DTSTART:20250429T160000Z
DTEND:20250429T173000Z
DTSTAMP:20220519T174641Z
ORGANIZER;CN=PMI Germany Chapter e.V.:MAILTO:website@pmi-gc.de
END:VEVENT
END:VCALENDAR