BEGIN:VCALENDAR
VERSION:2.0
PRODID:Events Booking
BEGIN:VEVENT
UID:69e789ac71a4c
SUMMARY:Study Group Session: People - Conflict management and communication
DESCRIPTION:Study Group Session: Menschen - Konfliktmanagement und Kommunik
 ation (Thomas Priess)
DTSTART:20250624T160000Z
DTEND:20250624T173000Z
DTSTAMP:20220519T174641Z
ORGANIZER;CN=PMI Germany Chapter e.V.:MAILTO:website@pmi-gc.de
END:VEVENT
END:VCALENDAR