BEGIN:VCALENDAR
VERSION:2.0
PRODID:Events Booking
BEGIN:VEVENT
UID:69e789ac7568e
SUMMARY:Study Group Session -  Deep Dive Communication (Annie Sheehan)
DESCRIPTION:Communication &amp\; Conflict – Handling Difficult Conversati
 ons with ConfidenceStrong communication is at the heart of every successfu
 l project. In this 90-minute interactive session\, we’ll dive into confl
 ict resolution techniques every project manager should know — and bring 
 them to life through Annie’s unique Bird Personas: the Mean Magpie\, Avo
 idant Ostrich\, Diligent Duck\, and Effective Eagle\, from her book\, “T
 he Courageous Sponsor”.
 Discover how to spot different communication s
 tyles\, defuse tension\, and navigate challenging conversations with clari
 ty and empathy. We'll also include a short\, practical role play so you ca
 n experience how these strategies work in action.Bring your curiosity — 
 and maybe your inner bird!
DTSTART:20250901T100000Z
DTEND:20250901T113000Z
DTSTAMP:20250712T100903Z
ORGANIZER;CN=PMI Germany Chapter e.V.:MAILTO:website@pmi-gc.de
END:VEVENT
END:VCALENDAR