BEGIN:VCALENDAR
VERSION:2.0
PRODID:Events Booking
BEGIN:VEVENT
UID:69e789a4ccf68
SUMMARY:Study Group Session: Basic concepts in project management (Beth Jos
 e-Mutoc)
DESCRIPTION:Study Group Session: Grundlegende Konzepte im Projektmanagement
  (Beth Jose-Mutoc)
DTSTART:20251125T180000Z
DTEND:20251125T190000Z
DTSTAMP:20220519T174641Z
ORGANIZER;CN=PMI Germany Chapter e.V.:MAILTO:website@pmi-gc.de
END:VEVENT
END:VCALENDAR