BEGIN:VCALENDAR
VERSION:2.0
PRODID:Events Booking
BEGIN:VEVENT
UID:69e7ab9d83f01
SUMMARY:Top-down Communications Using The Pyramid Principle 
DESCRIPTION:During this webinar on 24.11.2022\, you will gain an overview o
 n top-down communications using the Pyramid principle. The Pyramid Princip
 le is a hypothesis-driven approach for structured thinking and communicati
 on that is well suited for high-stakes contexts as in Project Management\,
  where program and project managers need to engage in concise communicatio
 n and garner support from busy executives and project sponsors.Preliminary
  information on the Pyramid Principle is available online at: https://thin
 kinsights.net/strategy/pyramid-principle/
DTSTART:20221124T170000Z
DTEND:20221124T173000Z
DTSTAMP:20221102T073005Z
ORGANIZER;CN=PMI Germany Chapter e.V.:MAILTO:website@pmi-gc.de
END:VEVENT
END:VCALENDAR