BEGIN:VCALENDAR
VERSION:2.0
PRODID:Events Booking
BEGIN:VEVENT
UID:69e907887ae21
SUMMARY:LG Dresden: Uncertainty Mapping
DESCRIPTION:The Local Group Dresden invites you to a workshop on Uncertaint
 y Mapping:
 Recognizing and successfully managing uncertainties
 The wor
 kshop will be in German!
 Uncertain? No problem!Uncertainty mapping bring
 s clarity to the chaos. We will show you how to uncover\, understand and v
 isualize uncertainties in projects. This will save you time\, reduce stres
 s and strengthen your team.
LOCATION:Kleiststraße 10a\, 01129 Dresden
DTSTART:20240919T160000Z
DTEND:20240919T180000Z
DTSTAMP:20240823T134842Z
ORGANIZER;CN=PMI Germany Chapter e.V.:MAILTO:website@pmi-gc.de
END:VEVENT
END:VCALENDAR