BEGIN:VCALENDAR
VERSION:2.0
PRODID:Events Booking
BEGIN:VEVENT
UID:69e7efb786782
SUMMARY:Volunteer Event PMI Germany Chapter '25
DESCRIPTION:We want to thank you for the great volunteer work you have done
  and continue to do for the chapter\, and we want to give you guidance in 
 our community. Therefore we would like to invite you to our 5th Germany-wi
 de virtual Volunteer Event on Tuesday\, 28.10.2025\, 7 to 8:30 pm.&nbsp\;
 
 &nbsp\;
 &nbsp\;
DTSTART:20251028T180000Z
DTEND:20251028T193000Z
DTSTAMP:20221020T095714Z
ORGANIZER;CN=PMI Germany Chapter e.V.:MAILTO:website@pmi-gc.de
END:VEVENT
END:VCALENDAR