BEGIN:VCALENDAR
VERSION:2.0
PRODID:Events Booking
BEGIN:VEVENT
UID:69e95b9fee808
SUMMARY:Xuviate Multiprojekt Kanban SimulationXuviate Kanban Simulation May
  2024
DESCRIPTION:4-hour Xuviate Multiprojekt Kanban SimulationMay 2\, 9:00 a.m. 
 to 1:00 p.m. in German and 2:00 p.m. to 6:00 p.m. in English
 English des
 cription and booking link: https://www.xuviate.com/multi-project-kanban-si
 mulation/Deutsche Beschreibung und Buchung: https://www.xuviate.com/de/mul
 tiprojekt-kanban-simulation/(free for one person per organisation with Cou
 pon Code: PMI-MPSIMU-0205)
 Holders of PMI Certificates can claim 2 PDUs 
 for Power Skills and&nbsp\;2 PDUs for Business Acumen.
DTSTART:20240502T070000Z
DTEND:20240502T160000Z
DTSTAMP:20240418T171018Z
ORGANIZER;CN=PMI Germany Chapter e.V.:MAILTO:website@pmi-gc.de
END:VEVENT
END:VCALENDAR