BEGIN:VCALENDAR
VERSION:2.0
PRODID:Events Booking
BEGIN:VEVENT
UID:69e7f57ddae1f
SUMMARY:Stammtisch Rheinland - Vergaberecht
DESCRIPTION:Daniela Wiese (BaFin) wird uns einen Überblick geben\, was gen
 au Vergaberecht eigentlich ist\, welchen Zweck es erfüllt\, welche Verfah
 rensarten und -abläufe es gibt.
DTSTART:20251008T220000Z
DTEND:20251008T220000Z
DTSTAMP:20250619T193702Z
ORGANIZER;CN=PMI Germany Chapter e.V.:MAILTO:website@pmi-gc.de
END:VEVENT
END:VCALENDAR