BEGIN:VCALENDAR
VERSION:2.0
PRODID:Events Booking
BEGIN:VEVENT
UID:69e7da88196b4
SUMMARY:Stammtisch Rheinland 
DESCRIPTION:Thema:tbd
 Als regelmäßiger Termin vor Ort ist der Stammtisc
 h Rheinland das Angebot im Köln/Bonner Raum für Projektmanagement-Profes
 sionals und -Interessierte und für Lernende\, die sich auf ihre Zertifizi
 erung vorbereiten. In lockerer Atmosphäre treffen wir uns zu branchenübe
 rgreifendem Austausch\, persönlicher Begegnung und fruchtbaren Diskussion
 en.
 Sprache: englisch/ deutschUnd jetzt Du: bring Dein Thema und Deine I
 deen mit oder sende sie an: alexandra.brueckner@pmi-gc.de und gib Impulse\
 , halte einen Vortrag oder einen Workshop ab\, in Präsenz oder online\, a
 uf deutsch oder englisch. Nutze den Rahmen zum Austausch von Ideen und Lö
 sungen\, um Professionalität im Projektmanagement zu fördern.
DTSTART:20251120T180000Z
DTEND:20251120T200000Z
DTSTAMP:20250116T175554Z
ORGANIZER;CN=PMI Germany Chapter e.V.:MAILTO:website@pmi-gc.de
END:VEVENT
END:VCALENDAR