BEGIN:VCALENDAR
VERSION:2.0
PRODID:Events Booking
BEGIN:VEVENT
UID:69e906e91697f
SUMMARY:AI Hacking Challenge
DESCRIPTION:Wir möchten Sie herzlich zu einer spannenden Veranstaltung ein
 laden. Bei dieser Veranstaltung werden innovative Technologien wie das “
 One Room” Meeting System genutzt\, um virtuelle Teilnehmer zu verbinden 
 und eine interaktive Erfahrung zu schaffen. Ich bin sicher\, dass die AI H
 acking Challenge eine großartige Gelegenheit bietet\, kreative Lösungen 
 zu entwickeln und neue Ideen auszutauschen. Viel Erfolg bei Ihrer Teilnahm
 e!
LOCATION:Arnulfstraße 59\, München\, 80636 Bayern\, Deutschland
DTSTART:20241010T160000Z
DTEND:20241010T173000Z
DTSTAMP:20240709T100034Z
ORGANIZER;CN=PMI Germany Chapter e.V.:MAILTO:website@pmi-gc.de
GEO:48.145553;11.538317
X-APPLE-STRUCTURED-LOCATION;VALUE=URI;X-ADDRESS=Arnulfstraße 59\, München
 \, 80636 Bayern\, Deutschland;X-APPLE-RADIUS=72;X-TITLE=Ernst & Young\, M
 ünchen:48.145553;11.538317
END:VEVENT
END:VCALENDAR