BEGIN:VCALENDAR
VERSION:2.0
PRODID:Events Booking
BEGIN:VEVENT
UID:69e92f221a6e6
SUMMARY:Organization Design For Artificial Intelligence (AI)
DESCRIPTION:The transformative power of AI hinges not just on the technolog
 y itself\, but on how effectively it's woven into the very fabric of an or
 ganization. A well-crafted AI organization design unlocks a significant so
 urce of competitive advantage.
DTSTART:20240725T160000Z
DTEND:20240725T170000Z
DTSTAMP:20240319T204222Z
ORGANIZER;CN=PMI Germany Chapter e.V.:MAILTO:website@pmi-gc.de
END:VEVENT
END:VCALENDAR