BEGIN:VCALENDAR
VERSION:2.0
PRODID:Events Booking
BEGIN:VEVENT
UID:69e87c614e828
SUMMARY:LG Berlin: BND Besucherzentrum - Vortrag und Ausstellung
DESCRIPTION:Wir tauchen ab in die Geheimnisse des BND.
 Die Local Group Be
 rlin des PMI Germany Chapters lädt Sie ein zur Teilnahme an etwas ganz Be
 sonderem.
 Eine Führung im BND – zumindest im dortigen Besucherzentrum
 .
 Einem einstündigen Vortrag über die Arbeitsweisen und Kontrollmechan
 ismen des BND folgend\, haben wir die Möglichkeiten\, die anliegende inte
 raktive Ausstellung zu besuchen und uns danach gern in der Nähe für eine
 n Austausch dazu im Cafe niederzulassen.
 Teilnehmerzahl ist auf 25 besch
 ränkt.
LOCATION:Chausseestraße 99a\, Berlin\, 10115\, Deutschland
DTSTART:20250425T113000Z
DTEND:20250425T140000Z
DTSTAMP:20250223T081013Z
ORGANIZER;CN=PMI Germany Chapter e.V.:MAILTO:website@pmi-gc.de
GEO:52.532865;13.379872
X-APPLE-STRUCTURED-LOCATION;VALUE=URI;X-ADDRESS=Chausseestraße 99a\, Berli
 n\, 10115\, Deutschland;X-APPLE-RADIUS=72;X-TITLE=BND-Besucherzentrum:52.5
 32865;13.379872
END:VEVENT
END:VCALENDAR