BEGIN:VCALENDAR
VERSION:2.0
PRODID:Events Booking
BEGIN:VEVENT
UID:69e83a24d09fc
SUMMARY:Sommerstammtisch im Brauhaus Spandau
DESCRIPTION:Da braut sich was zusammen…..
 Die Local Group Berlin des PM
 I Germany Chapters lädt euch herzlich zu einem sommerlichen PMI-Nachmitta
 g in Berlin ein!
 Los geht es mit einer exklusiven Führung durch die Bra
 uanlage\, bei der ihr einen Blick hinter die Kulissen der Bierherstellung 
 werfen könnt und erfahrt\, welche Projektmanagement-Skills hierzu notwend
 ig sind. Im Anschluss gibt es einen kurzen fachlichen Impuls von unserem M
 itglied Thomas Sturm zum Thema „Social Responsibility im PMI Germany Cha
 pter“\, bevor wir den Nachmittag gemeinsam im Biergarten ausklingen lass
 en.
LOCATION:Neuendorfer Straße 1\, Berlin\, 13585\, Deutschland
DTSTART:20250725T130000Z
DTEND:20250725T160000Z
DTSTAMP:20250615T120451Z
ORGANIZER;CN=PMI Germany Chapter e.V.:MAILTO:website@pmi-gc.de
GEO:52.54085;13.206316
X-APPLE-STRUCTURED-LOCATION;VALUE=URI;X-ADDRESS=Neuendorfer Straße 1\, Ber
 lin\, 13585\, Deutschland;X-APPLE-RADIUS=72;X-TITLE=Brauhaus Spandau:52.54
 085;13.206316
END:VEVENT
END:VCALENDAR