BEGIN:VCALENDAR
VERSION:2.0
PRODID:Events Booking
BEGIN:VEVENT
UID:69e92ff87af67
SUMMARY:Chapter Meeting Frankfurt Juli 2024
DESCRIPTION:Wir treffen uns wieder persönlich - nach langer Zeit.
 Wir pl
 anen:
 
 Präsentation Ernst&amp\;Young:&nbsp\;Künstliche Intelligenz i
 n der Vertragsanalyse – Automation und Effizienzsteigerung im Vertragsma
 nagement
 Pause zu Netzwerken
 Prof Dr. Hüsselmann:&nbsp\;Lean-adaptive
  Project Portfolio Management - Effizienz und Effektivität in der Projekt
 arbeit steigern mit dem LAUP²-Framework
 
 Eventuelle Fragen beantworte
 t: martin.bertram@pmi-gc.de
LOCATION:Mergenthalerallee 3-5\, Eschborn\, 65760 Hessen\, Deutschland
DTSTART:20240708T160000Z
DTEND:20240708T190000Z
DTSTAMP:20240506T154036Z
ORGANIZER;CN=PMI Germany Chapter e.V.:MAILTO:website@pmi-gc.de
GEO:50.132784;8.56694
X-APPLE-STRUCTURED-LOCATION;VALUE=URI;X-ADDRESS=Mergenthalerallee 3-5\, Esc
 hborn\, 65760 Hessen\, Deutschland;X-APPLE-RADIUS=72;X-TITLE=Ernst & Young
  Eschborn:50.132784;8.56694
END:VEVENT
END:VCALENDAR