BEGIN:VCALENDAR
VERSION:2.0
PRODID:Events Booking
BEGIN:VEVENT
UID:69e8cfecd8803
SUMMARY:Chapter Meeting Frankfurt Dezember 2024
DESCRIPTION:Es sind 2 Vorträge geplant:
 1) Lucas Artaza &amp\;&nbsp\;Den
 nis Rosendahl (Projektron):&nbsp\;Personas zur Steigerung der Nutzererfahr
 ung
 Zielgruppen\, Eigenschaften und Nutzerverhalten besser verstehen - d
 abei helfen Personas. Mit dem Ergebnis eines besseren Verständnisses der 
 Kundensicht\, sind sie ein innovatives Tool zur Kommunikation.Bei Projektr
 on spiegeln Personas Prototypen einer Firma (Organisationas) und einzelner
  Software-Anwender wieder\, mit großem Nutzen sowohl in der Produktentwic
 klung\, bei der Systemeinführung als auch im Marketing.
 2)&nbsp\;Dr. Ja
 dena Bechtel&nbsp\;(she/her)\,&nbsp\;Senior Consultant
 Spannungen manage
 n: Agile und nachhaltige Strategien im ProjektportfoliomanagementAuszüge 
 aus der diesjährigen Dissertation von Dr. Jadena Bechtel an der TU Darmst
 adt.
 Fragen zur Veranstaltung beantwortet Martin.Bertram@pmi-gc.de
 &nb
 sp\;
LOCATION:Kasseler Straße 1A \, Frankfurt am Main\, 60486 Hessen\, Deutschl
 and
DTSTART:20241209T170000Z
DTEND:20241209T200000Z
DTSTAMP:20240814T073244Z
ORGANIZER;CN=PMI Germany Chapter e.V.:MAILTO:website@pmi-gc.de
GEO:50.120773;8.637514
X-APPLE-STRUCTURED-LOCATION;VALUE=URI;X-ADDRESS=Kasseler Straße 1A \, Fran
 kfurt am Main\, 60486 Hessen\, Deutschland;X-APPLE-RADIUS=72;X-TITLE=KA-ei
 ns im Ökohaus:50.120773;8.637514
END:VEVENT
END:VCALENDAR